BEGIN:VCALENDAR
VERSION:2.0
PRODID:-//Katholische Pfarreiengemeinschaft „Bonn - Zwischen Rhein und Ennert“ - ECPv6.15.20//NONSGML v1.0//EN
CALSCALE:GREGORIAN
METHOD:PUBLISH
X-ORIGINAL-URL:https://www.pgrunde.de
X-WR-CALDESC:Veranstaltungen für Katholische Pfarreiengemeinschaft „Bonn - Zwischen Rhein und Ennert“
REFRESH-INTERVAL;VALUE=DURATION:PT1H
X-Robots-Tag:noindex
X-PUBLISHED-TTL:PT1H
BEGIN:VTIMEZONE
TZID:Europe/Berlin
BEGIN:DAYLIGHT
TZOFFSETFROM:+0100
TZOFFSETTO:+0200
TZNAME:CEST
DTSTART:20220327T010000
END:DAYLIGHT
BEGIN:STANDARD
TZOFFSETFROM:+0200
TZOFFSETTO:+0100
TZNAME:CET
DTSTART:20221030T010000
END:STANDARD
BEGIN:DAYLIGHT
TZOFFSETFROM:+0100
TZOFFSETTO:+0200
TZNAME:CEST
DTSTART:20230326T010000
END:DAYLIGHT
BEGIN:STANDARD
TZOFFSETFROM:+0200
TZOFFSETTO:+0100
TZNAME:CET
DTSTART:20231029T010000
END:STANDARD
BEGIN:DAYLIGHT
TZOFFSETFROM:+0100
TZOFFSETTO:+0200
TZNAME:CEST
DTSTART:20240331T010000
END:DAYLIGHT
BEGIN:STANDARD
TZOFFSETFROM:+0200
TZOFFSETTO:+0100
TZNAME:CET
DTSTART:20241027T010000
END:STANDARD
BEGIN:DAYLIGHT
TZOFFSETFROM:+0100
TZOFFSETTO:+0200
TZNAME:CEST
DTSTART:20250330T010000
END:DAYLIGHT
BEGIN:STANDARD
TZOFFSETFROM:+0200
TZOFFSETTO:+0100
TZNAME:CET
DTSTART:20251026T010000
END:STANDARD
BEGIN:DAYLIGHT
TZOFFSETFROM:+0100
TZOFFSETTO:+0200
TZNAME:CEST
DTSTART:20260329T010000
END:DAYLIGHT
BEGIN:STANDARD
TZOFFSETFROM:+0200
TZOFFSETTO:+0100
TZNAME:CET
DTSTART:20261025T010000
END:STANDARD
BEGIN:DAYLIGHT
TZOFFSETFROM:+0100
TZOFFSETTO:+0200
TZNAME:CEST
DTSTART:20270328T010000
END:DAYLIGHT
BEGIN:STANDARD
TZOFFSETFROM:+0200
TZOFFSETTO:+0100
TZNAME:CET
DTSTART:20271031T010000
END:STANDARD
END:VTIMEZONE
BEGIN:VEVENT
DTSTART;TZID=Europe/Berlin:20260111T090000
DTEND;TZID=Europe/Berlin:20260111T170000
DTSTAMP:20260422T123508
CREATED:20250908T102400Z
LAST-MODIFIED:20250908T102425Z
UID:10005392-1768122000-1768150800@www.pgrunde.de
SUMMARY:Sternsingen in Oberkassel
DESCRIPTION:
URL:https://www.pgrunde.de/veranstaltung/sternsingen-in-likuera-4/
LOCATION:LiKüRa
CATEGORIES:Sonstige Veranstaltungen
END:VEVENT
BEGIN:VEVENT
DTSTART;TZID=Europe/Berlin:20260110T090000
DTEND;TZID=Europe/Berlin:20260110T170000
DTSTAMP:20260422T123508
CREATED:20250908T102532Z
LAST-MODIFIED:20250908T102532Z
UID:10005393-1768035600-1768064400@www.pgrunde.de
SUMMARY:Sternsingen in LiKüRa
DESCRIPTION:
URL:https://www.pgrunde.de/veranstaltung/sternsingen-in-likuera-5/
LOCATION:LiKüRa
CATEGORIES:Sonstige Veranstaltungen
END:VEVENT
BEGIN:VEVENT
DTSTART;TZID=Europe/Berlin:20250111T090000
DTEND;TZID=Europe/Berlin:20250111T160000
DTSTAMP:20260422T123508
CREATED:20240315T080515Z
LAST-MODIFIED:20240315T080515Z
UID:10004119-1736586000-1736611200@www.pgrunde.de
SUMMARY:Sternsingen in LiKüRa
DESCRIPTION:
URL:https://www.pgrunde.de/veranstaltung/sternsingen-in-likuera-3/
LOCATION:LiKüRa
CATEGORIES:Sonstige Veranstaltungen
END:VEVENT
BEGIN:VEVENT
DTSTART;TZID=Europe/Berlin:20240927T180000
DTEND;TZID=Europe/Berlin:20240927T210000
DTSTAMP:20260422T123508
CREATED:20240702T133221Z
LAST-MODIFIED:20240709T124824Z
UID:10004265-1727460000-1727470800@www.pgrunde.de
SUMMARY:Rheinischer Spaziergang - Feuchtfröhliche Bollerwagentour für Erwachsene zum Thema "Karneval in LiKüRa"
DESCRIPTION:Den Bollerwagen mit einem Grundstock an Getränken und Snacks stellen wir; eigene „Zugaben“ sind zu empfehlen. Die Teilnehmeranzahl ist begrenzt. Die Veranstaltung ist kostenfrei\, Spenden sind willkommen. Sie findet auch bei leichtem Regen statt. \nTreffpunkt: Pfarrheim St. Gallus\, Küdinghoven \nEine fomlose Anmeldung ist bis 24.09.2024 erforderlich. \n 
URL:https://www.pgrunde.de/veranstaltung/feuchtfroehliche-bollerwagentour-zum-thema-karneval-in-likuera/
LOCATION:LiKüRa
CATEGORIES:Familienzentrum
END:VEVENT
BEGIN:VEVENT
DTSTART;VALUE=DATE:20240106
DTEND;VALUE=DATE:20240107
DTSTAMP:20260422T123508
CREATED:20231107T175637Z
LAST-MODIFIED:20231107T175637Z
UID:10003424-1704499200-1704585599@www.pgrunde.de
SUMMARY:Sternsingen in LiKüRa
DESCRIPTION:
URL:https://www.pgrunde.de/veranstaltung/sternsingen-in-likuera/
LOCATION:LiKüRa
CATEGORIES:Sonstige Veranstaltungen
END:VEVENT
BEGIN:VEVENT
DTSTART;VALUE=DATE:20230107
DTEND;VALUE=DATE:20230108
DTSTAMP:20260422T123508
CREATED:20221007T141949Z
LAST-MODIFIED:20221007T141949Z
UID:10002399-1673049600-1673135999@www.pgrunde.de
SUMMARY:Sternsingen in LiKüRa
DESCRIPTION:
URL:https://www.pgrunde.de/veranstaltung/sternsingen-in-likuera-2/
LOCATION:LiKüRa
CATEGORIES:Kinder & Jugendliche,Ökumene
END:VEVENT
END:VCALENDAR