BEGIN:VCALENDAR
VERSION:2.0
PRODID:-//Katholische Pfarreiengemeinschaft „Bonn - Zwischen Rhein und Ennert“ - ECPv6.15.20//NONSGML v1.0//EN
CALSCALE:GREGORIAN
METHOD:PUBLISH
X-WR-CALNAME:Katholische Pfarreiengemeinschaft „Bonn - Zwischen Rhein und Ennert“
X-ORIGINAL-URL:https://www.pgrunde.de
X-WR-CALDESC:Veranstaltungen für Katholische Pfarreiengemeinschaft „Bonn - Zwischen Rhein und Ennert“
REFRESH-INTERVAL;VALUE=DURATION:PT1H
X-Robots-Tag:noindex
X-PUBLISHED-TTL:PT1H
BEGIN:VTIMEZONE
TZID:Europe/Berlin
BEGIN:DAYLIGHT
TZOFFSETFROM:+0100
TZOFFSETTO:+0200
TZNAME:CEST
DTSTART:20220327T010000
END:DAYLIGHT
BEGIN:STANDARD
TZOFFSETFROM:+0200
TZOFFSETTO:+0100
TZNAME:CET
DTSTART:20221030T010000
END:STANDARD
BEGIN:DAYLIGHT
TZOFFSETFROM:+0100
TZOFFSETTO:+0200
TZNAME:CEST
DTSTART:20230326T010000
END:DAYLIGHT
BEGIN:STANDARD
TZOFFSETFROM:+0200
TZOFFSETTO:+0100
TZNAME:CET
DTSTART:20231029T010000
END:STANDARD
BEGIN:DAYLIGHT
TZOFFSETFROM:+0100
TZOFFSETTO:+0200
TZNAME:CEST
DTSTART:20240331T010000
END:DAYLIGHT
BEGIN:STANDARD
TZOFFSETFROM:+0200
TZOFFSETTO:+0100
TZNAME:CET
DTSTART:20241027T010000
END:STANDARD
BEGIN:DAYLIGHT
TZOFFSETFROM:+0100
TZOFFSETTO:+0200
TZNAME:CEST
DTSTART:20250330T010000
END:DAYLIGHT
BEGIN:STANDARD
TZOFFSETFROM:+0200
TZOFFSETTO:+0100
TZNAME:CET
DTSTART:20251026T010000
END:STANDARD
END:VTIMEZONE
BEGIN:VEVENT
DTSTART;TZID=Europe/Berlin:20240309T100000
DTEND;TZID=Europe/Berlin:20240309T120000
DTSTAMP:20260423T094510
CREATED:20240221T075441Z
LAST-MODIFIED:20240221T075441Z
UID:10003797-1709978400-1709985600@www.pgrunde.de
SUMMARY:Frühjahrs-Aktion BiCK-Beete
DESCRIPTION:
URL:https://www.pgrunde.de/veranstaltung/fruehjahrs-aktion-bick-beete/
LOCATION:Außengelände Hl. Kreuz
CATEGORIES:Familienzentrum
END:VEVENT
BEGIN:VEVENT
DTSTART;TZID=Europe/Berlin:20230923T100000
DTEND;TZID=Europe/Berlin:20230923T160000
DTSTAMP:20260423T094510
CREATED:20230525T131329Z
LAST-MODIFIED:20230707T121417Z
UID:10003028-1695463200-1695484800@www.pgrunde.de
SUMMARY:Umgestaltung Außengelände Hl. Kreuz (BiCK-Projekt)
DESCRIPTION:
URL:https://www.pgrunde.de/veranstaltung/umgestaltung-aussengelaende-hl-kreuz-bick-projekt/
LOCATION:Außengelände Hl. Kreuz
CATEGORIES:Familienzentrum
END:VEVENT
BEGIN:VEVENT
DTSTART;TZID=Europe/Berlin:20230922T160000
DTEND;TZID=Europe/Berlin:20230922T190000
DTSTAMP:20260423T094510
CREATED:20230707T121606Z
LAST-MODIFIED:20230707T121606Z
UID:10003090-1695398400-1695409200@www.pgrunde.de
SUMMARY:Vorbereitungen zur Umgestaltung des Außengeländes von Hl. Kreuz
DESCRIPTION:mit Maschinen
URL:https://www.pgrunde.de/veranstaltung/vorbereitungen-zur-umgestaltung-des-aussengelaendes-von-hl-kreuz/
LOCATION:Außengelände Hl. Kreuz
CATEGORIES:Familienzentrum
END:VEVENT
END:VCALENDAR