BEGIN:VCALENDAR
VERSION:2.0
PRODID:-//Katholische Pfarreiengemeinschaft „Bonn - Zwischen Rhein und Ennert“ - ECPv6.15.20//NONSGML v1.0//EN
CALSCALE:GREGORIAN
METHOD:PUBLISH
X-ORIGINAL-URL:https://www.pgrunde.de
X-WR-CALDESC:Veranstaltungen für Katholische Pfarreiengemeinschaft „Bonn - Zwischen Rhein und Ennert“
REFRESH-INTERVAL;VALUE=DURATION:PT1H
X-Robots-Tag:noindex
X-PUBLISHED-TTL:PT1H
BEGIN:VTIMEZONE
TZID:Europe/Berlin
BEGIN:DAYLIGHT
TZOFFSETFROM:+0100
TZOFFSETTO:+0200
TZNAME:CEST
DTSTART:20210328T010000
END:DAYLIGHT
BEGIN:STANDARD
TZOFFSETFROM:+0200
TZOFFSETTO:+0100
TZNAME:CET
DTSTART:20211031T010000
END:STANDARD
BEGIN:DAYLIGHT
TZOFFSETFROM:+0100
TZOFFSETTO:+0200
TZNAME:CEST
DTSTART:20220327T010000
END:DAYLIGHT
BEGIN:STANDARD
TZOFFSETFROM:+0200
TZOFFSETTO:+0100
TZNAME:CET
DTSTART:20221030T010000
END:STANDARD
BEGIN:DAYLIGHT
TZOFFSETFROM:+0100
TZOFFSETTO:+0200
TZNAME:CEST
DTSTART:20230326T010000
END:DAYLIGHT
BEGIN:STANDARD
TZOFFSETFROM:+0200
TZOFFSETTO:+0100
TZNAME:CET
DTSTART:20231029T010000
END:STANDARD
BEGIN:DAYLIGHT
TZOFFSETFROM:+0100
TZOFFSETTO:+0200
TZNAME:CEST
DTSTART:20240331T010000
END:DAYLIGHT
BEGIN:STANDARD
TZOFFSETFROM:+0200
TZOFFSETTO:+0100
TZNAME:CET
DTSTART:20241027T010000
END:STANDARD
BEGIN:DAYLIGHT
TZOFFSETFROM:+0100
TZOFFSETTO:+0200
TZNAME:CEST
DTSTART:20250330T010000
END:DAYLIGHT
BEGIN:STANDARD
TZOFFSETFROM:+0200
TZOFFSETTO:+0100
TZNAME:CET
DTSTART:20251026T010000
END:STANDARD
END:VTIMEZONE
BEGIN:VEVENT
DTSTART;TZID=Europe/Berlin:20240215T140000
DTEND;TZID=Europe/Berlin:20240215T180000
DTSTAMP:20260421T220915
CREATED:20240205T065653Z
LAST-MODIFIED:20240205T065653Z
UID:10003742-1708005600-1708020000@www.pgrunde.de
SUMMARY:Wandertreff
DESCRIPTION:Wandern mit Ziel Hafenschlösschen in Mondorf\nTreffpunkt: Haltestelle Limperich
URL:https://www.pgrunde.de/veranstaltung/wandertreff-7/
CATEGORIES:kfd
END:VEVENT
BEGIN:VEVENT
DTSTART;TZID=Europe/Berlin:20231129T150000
DTEND;TZID=Europe/Berlin:20231129T180000
DTSTAMP:20260421T220915
CREATED:20231025T085539Z
LAST-MODIFIED:20231025T085539Z
UID:10003380-1701270000-1701280800@www.pgrunde.de
SUMMARY:Jahreshauptversammlung kfd Hl. Kreuz\, anschl. Einstieg in den Advent
DESCRIPTION:
URL:https://www.pgrunde.de/veranstaltung/jahreshauptversammlung-kfd-hl-kreuz-anschl-einstieg-in-den-advent/
LOCATION:Pfarrheim Hl. Kreuz\, Kreuzherrenstraße 55\, Bonn-Limperich\, NRW\, 53227\, Deutschland
CATEGORIES:kfd
END:VEVENT
BEGIN:VEVENT
DTSTART;TZID=Europe/Berlin:20231109T140000
DTEND;TZID=Europe/Berlin:20231109T180000
DTSTAMP:20260421T220915
CREATED:20231025T085413Z
LAST-MODIFIED:20231025T085413Z
UID:10003379-1699538400-1699552800@www.pgrunde.de
SUMMARY:Wandertreff: Einkehr im Tentenhaus
DESCRIPTION:Treffpunkt: Haltestelle Limperich
URL:https://www.pgrunde.de/veranstaltung/wandertreff-einkehr-im-tentenhaus/
CATEGORIES:kfd
END:VEVENT
BEGIN:VEVENT
DTSTART;VALUE=DATE:20231012
DTEND;VALUE=DATE:20231013
DTSTAMP:20260421T220915
CREATED:20230822T132019Z
LAST-MODIFIED:20230822T132019Z
UID:10003165-1697068800-1697155199@www.pgrunde.de
SUMMARY:Wandertreff
DESCRIPTION:Wandern zum Weilberg mit Einkehr im Haus Schlesien
URL:https://www.pgrunde.de/veranstaltung/wandertreff-6/
CATEGORIES:kfd
END:VEVENT
BEGIN:VEVENT
DTSTART;TZID=Europe/Berlin:20230907T130000
DTEND;TZID=Europe/Berlin:20230907T190000
DTSTAMP:20260421T220915
CREATED:20230822T131726Z
LAST-MODIFIED:20230822T131726Z
UID:10003163-1694091600-1694113200@www.pgrunde.de
SUMMARY:Wandertreff
DESCRIPTION:Wandern an der Ahr\, Ziel und Einkehr noch offen. \nTreffpunkt: Haltestelle Limperich \n 
URL:https://www.pgrunde.de/veranstaltung/wandertreff-5/
CATEGORIES:kfd
END:VEVENT
BEGIN:VEVENT
DTSTART;TZID=Europe/Berlin:20230810T140000
DTEND;TZID=Europe/Berlin:20230810T170000
DTSTAMP:20260421T220915
CREATED:20230623T132351Z
LAST-MODIFIED:20230623T132351Z
UID:10003083-1691676000-1691686800@www.pgrunde.de
SUMMARY:Wandertreff
DESCRIPTION:ab Haltestelle Limperich
URL:https://www.pgrunde.de/veranstaltung/wandertreff-4/
CATEGORIES:kfd
END:VEVENT
BEGIN:VEVENT
DTSTART;TZID=Europe/Berlin:20230607T140000
DTEND;TZID=Europe/Berlin:20230607T180000
DTSTAMP:20260421T220915
CREATED:20230505T160507Z
LAST-MODIFIED:20230505T160507Z
UID:10002974-1686146400-1686160800@www.pgrunde.de
SUMMARY:Wanderung zum Weingut Sülz
DESCRIPTION:Treffpunkt: Haltestelle Limperich
URL:https://www.pgrunde.de/veranstaltung/wanderung-zum-weingut-suelz/
CATEGORIES:kfd
END:VEVENT
BEGIN:VEVENT
DTSTART;TZID=Europe/Berlin:20230511T140000
DTEND;TZID=Europe/Berlin:20230511T190000
DTSTAMP:20260421T220915
CREATED:20230505T160335Z
LAST-MODIFIED:20230505T160335Z
UID:10002973-1683813600-1683831600@www.pgrunde.de
SUMMARY:Wanderung zur Siegfähre
DESCRIPTION:Treffpunkt: Haltestelle Limperich
URL:https://www.pgrunde.de/veranstaltung/wanderung-zur-siegfaehre/
CATEGORIES:kfd
END:VEVENT
BEGIN:VEVENT
DTSTART;TZID=Europe/Berlin:20230413T140000
DTEND;TZID=Europe/Berlin:20230413T180000
DTSTAMP:20260421T220915
CREATED:20230301T143621Z
LAST-MODIFIED:20230301T143621Z
UID:10002844-1681394400-1681408800@www.pgrunde.de
SUMMARY:Wanderung der kfd Hl. Kreuz
DESCRIPTION:
URL:https://www.pgrunde.de/veranstaltung/wanderung-der-kfd-hl-kreuz/
CATEGORIES:kfd
END:VEVENT
BEGIN:VEVENT
DTSTART;TZID=Europe/Berlin:20230309T140000
DTEND;TZID=Europe/Berlin:20230309T180000
DTSTAMP:20260421T220915
CREATED:20230301T143039Z
LAST-MODIFIED:20230301T143039Z
UID:10002843-1678370400-1678384800@www.pgrunde.de
SUMMARY:Wanderung kfd Hl. Kreuz
DESCRIPTION:Treffpunkt: Haltestelle Limperich
URL:https://www.pgrunde.de/veranstaltung/wanderung-kfd-hl-kreuz/
LOCATION:Waldau
CATEGORIES:kfd
END:VEVENT
BEGIN:VEVENT
DTSTART;TZID=Europe/Berlin:20230303T150000
DTEND;TZID=Europe/Berlin:20230303T170000
DTSTAMP:20260421T220915
CREATED:20230130T151806Z
LAST-MODIFIED:20230130T151806Z
UID:10002759-1677855600-1677862800@www.pgrunde.de
SUMMARY:Wortgottesdienst zum Weltgebetstag\, anschl. Kaffeetrinken
DESCRIPTION:
URL:https://www.pgrunde.de/veranstaltung/wortgottesdienst-zum-weltgebetstag-anschl-kaffeetrinken/
LOCATION:Pfarrkirche Hl. Kreuz\, Kreuzherrenstraße 55\, Bonn-Limperich\, NRW\, 53227\, Deutschland
CATEGORIES:kfd,Ökumene
END:VEVENT
BEGIN:VEVENT
DTSTART;TZID=Europe/Berlin:20230125T150000
DTEND;TZID=Europe/Berlin:20230125T190000
DTSTAMP:20260421T220915
CREATED:20230114T180942Z
LAST-MODIFIED:20230114T180942Z
UID:10002685-1674658800-1674673200@www.pgrunde.de
SUMMARY:Karnevalssitzung der kfd Hl. Kreuz
DESCRIPTION:
URL:https://www.pgrunde.de/veranstaltung/karnevalssitzung-der-kfd-hl-kreuz/
LOCATION:Pfarrheim Hl. Kreuz\, Kreuzherrenstraße 55\, Bonn-Limperich\, NRW\, 53227\, Deutschland
CATEGORIES:kfd
END:VEVENT
BEGIN:VEVENT
DTSTART;TZID=Europe/Berlin:20221209T130000
DTEND;TZID=Europe/Berlin:20221209T200000
DTSTAMP:20260421T220915
CREATED:20221025T130108Z
LAST-MODIFIED:20221025T130108Z
UID:10002485-1670590800-1670616000@www.pgrunde.de
SUMMARY:Wandertreff
DESCRIPTION:Besuch des Ahrweiler Weihnachtsmarktes\nTreffpunkt: Haltestelle Limperich
URL:https://www.pgrunde.de/veranstaltung/wandertreff-2/
CATEGORIES:kfd
END:VEVENT
BEGIN:VEVENT
DTSTART;TZID=Europe/Berlin:20221130T150000
DTEND;TZID=Europe/Berlin:20221130T170000
DTSTAMP:20260421T220915
CREATED:20221025T125943Z
LAST-MODIFIED:20221025T125943Z
UID:10002484-1669820400-1669827600@www.pgrunde.de
SUMMARY:Adventsfeier kfd Hl. Kreuz
DESCRIPTION:
URL:https://www.pgrunde.de/veranstaltung/adventsfeier-kfd-hl-kreuz/
LOCATION:Pfarrheim Hl. Kreuz\, Kreuzherrenstraße 55\, Bonn-Limperich\, NRW\, 53227\, Deutschland
CATEGORIES:kfd
END:VEVENT
BEGIN:VEVENT
DTSTART;TZID=Europe/Berlin:20221110T140000
DTEND;TZID=Europe/Berlin:20221110T180000
DTSTAMP:20260421T220915
CREATED:20221025T125842Z
LAST-MODIFIED:20221025T125842Z
UID:10002483-1668088800-1668103200@www.pgrunde.de
SUMMARY:Wandertreff
DESCRIPTION:Ziel: Hennef\nTreffpunkt: Haltestelle Limperich
URL:https://www.pgrunde.de/veranstaltung/wandertreff/
CATEGORIES:kfd
END:VEVENT
END:VCALENDAR